BEGIN:VCALENDAR
VERSION:2.0
PRODID:-//Trommler und Pfeiferkorps Dremmen 1920 e.V. - ECPv6.12.0//NONSGML v1.0//EN
CALSCALE:GREGORIAN
METHOD:PUBLISH
X-ORIGINAL-URL:https://www.trommlerkorps-dremmen.de
X-WR-CALDESC:Veranstaltungen für Trommler und Pfeiferkorps Dremmen 1920 e.V.
REFRESH-INTERVAL;VALUE=DURATION:PT1H
X-Robots-Tag:noindex
X-PUBLISHED-TTL:PT1H
BEGIN:VTIMEZONE
TZID:Europe/Berlin
BEGIN:DAYLIGHT
TZOFFSETFROM:+0100
TZOFFSETTO:+0200
TZNAME:CEST
DTSTART:20250330T010000
END:DAYLIGHT
BEGIN:STANDARD
TZOFFSETFROM:+0200
TZOFFSETTO:+0100
TZNAME:CET
DTSTART:20251026T010000
END:STANDARD
END:VTIMEZONE
BEGIN:VEVENT
DTSTART;VALUE=DATE:20250822
DTEND;VALUE=DATE:20250823
DTSTAMP:20260423T123238
CREATED:20250720T082503Z
LAST-MODIFIED:20250720T082503Z
UID:22891-1755820800-1755907199@www.trommlerkorps-dremmen.de
SUMMARY:Zapfenstreich Feuerwehr Dremmen
DESCRIPTION:Zapfenstreich Feuerwehr Dremmen
URL:https://www.trommlerkorps-dremmen.de/event/zapfenstreich-feuerwehr-dremmen/
LOCATION:Dremmen
CATEGORIES:Aufzug,Pflichtveranstaltung
END:VEVENT
BEGIN:VEVENT
DTSTART;VALUE=DATE:20250824
DTEND;VALUE=DATE:20250825
DTSTAMP:20260423T123238
CREATED:20250720T082606Z
LAST-MODIFIED:20250720T082606Z
UID:22893-1755993600-1756079999@www.trommlerkorps-dremmen.de
SUMMARY:125 Jahre Freiwillige Feuerwehr Dremmen
DESCRIPTION:125 Jahre Freiwillige Feuerwehr Dremmen
URL:https://www.trommlerkorps-dremmen.de/event/125-jahre-freiwillige-feuerwehr-dremmen/
LOCATION:Dremmen
CATEGORIES:Aufzug,Pflichtveranstaltung
END:VEVENT
BEGIN:VEVENT
DTSTART;VALUE=DATE:20250828
DTEND;VALUE=DATE:20250829
DTSTAMP:20260423T123238
CREATED:20250720T082724Z
LAST-MODIFIED:20250720T082724Z
UID:22895-1756339200-1756425599@www.trommlerkorps-dremmen.de
SUMMARY:Generalprobe Zapfenstreich Porselen
DESCRIPTION:Generalprobe Zapfenstreich Porselen
URL:https://www.trommlerkorps-dremmen.de/event/generalprobe-zapfenstreich-porselen/
LOCATION:Porselen\, Ullrichstraße 4\, Porselen\, NRW\, 52525\, Deutschland
CATEGORIES:Pflichtveranstaltung,Proben
END:VEVENT
BEGIN:VEVENT
DTSTART;VALUE=DATE:20250829
DTEND;VALUE=DATE:20250830
DTSTAMP:20260423T123238
CREATED:20250720T082823Z
LAST-MODIFIED:20250720T082835Z
UID:22897-1756425600-1756511999@www.trommlerkorps-dremmen.de
SUMMARY:Bezirksschützenfest Porselen
DESCRIPTION:Bezirksschützenfest Porselen
URL:https://www.trommlerkorps-dremmen.de/event/bezirksschuetzenfest-porselen/
LOCATION:Porselen\, Ullrichstraße 4\, Porselen\, NRW\, 52525\, Deutschland
CATEGORIES:Aufzug,Pflichtveranstaltung
END:VEVENT
BEGIN:VEVENT
DTSTART;VALUE=DATE:20250830
DTEND;VALUE=DATE:20250831
DTSTAMP:20260423T123238
CREATED:20250720T082908Z
LAST-MODIFIED:20250720T082908Z
UID:22899-1756512000-1756598399@www.trommlerkorps-dremmen.de
SUMMARY:Bezirksschützenfest Porselen
DESCRIPTION:Bezirksschützenfest Porselen
URL:https://www.trommlerkorps-dremmen.de/event/bezirksschuetzenfest-porselen-2/
LOCATION:Porselen\, Ullrichstraße 4\, Porselen\, NRW\, 52525\, Deutschland
CATEGORIES:Aufzug,Pflichtveranstaltung
END:VEVENT
BEGIN:VEVENT
DTSTART;VALUE=DATE:20250831
DTEND;VALUE=DATE:20250901
DTSTAMP:20260423T123238
CREATED:20250720T082939Z
LAST-MODIFIED:20250720T082939Z
UID:22901-1756598400-1756684799@www.trommlerkorps-dremmen.de
SUMMARY:Bezirksschützenfest Porselen
DESCRIPTION:Bezirksschützenfest Porselen
URL:https://www.trommlerkorps-dremmen.de/event/bezirksschuetzenfest-porselen-3/
LOCATION:Porselen\, Ullrichstraße 4\, Porselen\, NRW\, 52525\, Deutschland
CATEGORIES:Aufzug,Pflichtveranstaltung
END:VEVENT
END:VCALENDAR