BEGIN:VCALENDAR
VERSION:2.0
PRODID:-//Trommler und Pfeiferkorps Dremmen 1920 e.V. - ECPv6.12.0//NONSGML v1.0//EN
CALSCALE:GREGORIAN
METHOD:PUBLISH
X-ORIGINAL-URL:https://www.trommlerkorps-dremmen.de
X-WR-CALDESC:Veranstaltungen für Trommler und Pfeiferkorps Dremmen 1920 e.V.
REFRESH-INTERVAL;VALUE=DURATION:PT1H
X-Robots-Tag:noindex
X-PUBLISHED-TTL:PT1H
BEGIN:VTIMEZONE
TZID:Europe/Berlin
BEGIN:DAYLIGHT
TZOFFSETFROM:+0100
TZOFFSETTO:+0200
TZNAME:CEST
DTSTART:20250330T010000
END:DAYLIGHT
BEGIN:STANDARD
TZOFFSETFROM:+0200
TZOFFSETTO:+0100
TZNAME:CET
DTSTART:20251026T010000
END:STANDARD
END:VTIMEZONE
BEGIN:VEVENT
DTSTART;VALUE=DATE:20250427
DTEND;VALUE=DATE:20250428
DTSTAMP:20260421T182814
CREATED:20241018T130331Z
LAST-MODIFIED:20250220T171122Z
UID:21860-1745712000-1745798399@www.trommlerkorps-dremmen.de
SUMMARY:Stadtmusikfest der Spielmannszüge Karken
DESCRIPTION:Stadtmusikfest der Spielmannszüge in Karken \nFahrdienst: Lutz\, Andre\, Niklas\, Sven\, Aaron\, Franz-Josef
URL:https://www.trommlerkorps-dremmen.de/event/stadtmusikfest-straeten/
CATEGORIES:Aufzug,Pflichtveranstaltung
END:VEVENT
END:VCALENDAR